BEGIN:VCALENDAR
VERSION:2.0
PRODID:-//Westende Junior School - ECPv6.15.20//NONSGML v1.0//EN
CALSCALE:GREGORIAN
METHOD:PUBLISH
X-WR-CALNAME:Westende Junior School
X-ORIGINAL-URL:https://www.westende.wokingham.sch.uk
X-WR-CALDESC:Events for Westende Junior School
REFRESH-INTERVAL;VALUE=DURATION:PT1H
X-Robots-Tag:noindex
X-PUBLISHED-TTL:PT1H
BEGIN:VTIMEZONE
TZID:Europe/London
BEGIN:DAYLIGHT
TZOFFSETFROM:+0000
TZOFFSETTO:+0100
TZNAME:BST
DTSTART:20250330T010000
END:DAYLIGHT
BEGIN:STANDARD
TZOFFSETFROM:+0100
TZOFFSETTO:+0000
TZNAME:GMT
DTSTART:20251026T010000
END:STANDARD
BEGIN:DAYLIGHT
TZOFFSETFROM:+0000
TZOFFSETTO:+0100
TZNAME:BST
DTSTART:20260329T010000
END:DAYLIGHT
BEGIN:STANDARD
TZOFFSETFROM:+0100
TZOFFSETTO:+0000
TZNAME:GMT
DTSTART:20261025T010000
END:STANDARD
BEGIN:DAYLIGHT
TZOFFSETFROM:+0000
TZOFFSETTO:+0100
TZNAME:BST
DTSTART:20270328T010000
END:DAYLIGHT
BEGIN:STANDARD
TZOFFSETFROM:+0100
TZOFFSETTO:+0000
TZNAME:GMT
DTSTART:20271031T010000
END:STANDARD
END:VTIMEZONE
BEGIN:VEVENT
DTSTART;TZID=Europe/London:20260609T151500
DTEND;TZID=Europe/London:20260609T163000
DTSTAMP:20260423T082504
CREATED:20260421T154514Z
LAST-MODIFIED:20260422T154429Z
UID:239984-1781018100-1781022600@www.westende.wokingham.sch.uk
SUMMARY:Gardening Club
DESCRIPTION:
URL:https://www.westende.wokingham.sch.uk/event/gardening-club-62/
END:VEVENT
BEGIN:VEVENT
DTSTART;TZID=Europe/London:20260610T074500
DTEND;TZID=Europe/London:20260610T083000
DTSTAMP:20260423T082504
CREATED:20260421T154516Z
LAST-MODIFIED:20260422T154431Z
UID:239985-1781077500-1781080200@www.westende.wokingham.sch.uk
SUMMARY:Gymnastics Club
DESCRIPTION:
URL:https://www.westende.wokingham.sch.uk/event/gymnastics-club-114/
END:VEVENT
BEGIN:VEVENT
DTSTART;TZID=Europe/London:20260610T151500
DTEND;TZID=Europe/London:20260610T161500
DTSTAMP:20260423T082504
CREATED:20260421T154517Z
LAST-MODIFIED:20260422T154431Z
UID:239986-1781104500-1781108100@www.westende.wokingham.sch.uk
SUMMARY:Fencing Club
DESCRIPTION:
URL:https://www.westende.wokingham.sch.uk/event/fencing-club-16/
END:VEVENT
BEGIN:VEVENT
DTSTART;TZID=Europe/London:20260610T151500
DTEND;TZID=Europe/London:20260610T161500
DTSTAMP:20260423T082504
CREATED:20260421T154517Z
LAST-MODIFIED:20260422T154432Z
UID:239987-1781104500-1781108100@www.westende.wokingham.sch.uk
SUMMARY:Tennis Club
DESCRIPTION:
URL:https://www.westende.wokingham.sch.uk/event/tennis-club-7/
END:VEVENT
BEGIN:VEVENT
DTSTART;TZID=Europe/London:20260611T074500
DTEND;TZID=Europe/London:20260611T083000
DTSTAMP:20260423T082504
CREATED:20260421T154518Z
LAST-MODIFIED:20260422T154433Z
UID:239988-1781163900-1781166600@www.westende.wokingham.sch.uk
SUMMARY:Drama Club
DESCRIPTION:
URL:https://www.westende.wokingham.sch.uk/event/drama-club-111/
END:VEVENT
BEGIN:VEVENT
DTSTART;TZID=Europe/London:20260611T151500
DTEND;TZID=Europe/London:20260611T160000
DTSTAMP:20260423T082504
CREATED:20260421T154519Z
LAST-MODIFIED:20260422T154433Z
UID:239990-1781190900-1781193600@www.westende.wokingham.sch.uk
SUMMARY:Dance Club
DESCRIPTION:
URL:https://www.westende.wokingham.sch.uk/event/dance-club-17/
END:VEVENT
BEGIN:VEVENT
DTSTART;TZID=Europe/London:20260611T151500
DTEND;TZID=Europe/London:20260611T161500
DTSTAMP:20260423T082504
CREATED:20260421T154519Z
LAST-MODIFIED:20260422T154434Z
UID:239989-1781190900-1781194500@www.westende.wokingham.sch.uk
SUMMARY:Year 3+4 Football Mixed
DESCRIPTION:
URL:https://www.westende.wokingham.sch.uk/event/year-34-football-mixed-7/
END:VEVENT
BEGIN:VEVENT
DTSTART;VALUE=DATE:20260612
DTEND;VALUE=DATE:20260613
DTSTAMP:20260423T082504
CREATED:20260421T154523Z
LAST-MODIFIED:20260422T154435Z
UID:239995-1781222400-1781308799@www.westende.wokingham.sch.uk
SUMMARY:PA Wescott & Westende School Discos
DESCRIPTION:
URL:https://www.westende.wokingham.sch.uk/event/pa-wescott-westende-school-discos/
END:VEVENT
BEGIN:VEVENT
DTSTART;TZID=Europe/London:20260612T074500
DTEND;TZID=Europe/London:20260612T083000
DTSTAMP:20260423T082504
CREATED:20260421T154520Z
LAST-MODIFIED:20260422T154435Z
UID:239991-1781250300-1781253000@www.westende.wokingham.sch.uk
SUMMARY:Judo Club
DESCRIPTION:
URL:https://www.westende.wokingham.sch.uk/event/judo-club-91/
END:VEVENT
BEGIN:VEVENT
DTSTART;TZID=Europe/London:20260612T151500
DTEND;TZID=Europe/London:20260612T161500
DTSTAMP:20260423T082504
CREATED:20260421T154521Z
LAST-MODIFIED:20260422T154437Z
UID:239992-1781277300-1781280900@www.westende.wokingham.sch.uk
SUMMARY:Reading Football - Girls only
DESCRIPTION:
URL:https://www.westende.wokingham.sch.uk/event/reading-football-girls-only-8/
END:VEVENT
BEGIN:VEVENT
DTSTART;TZID=Europe/London:20260612T151500
DTEND;TZID=Europe/London:20260612T161500
DTSTAMP:20260423T082504
CREATED:20260421T154522Z
LAST-MODIFIED:20260422T154437Z
UID:239993-1781277300-1781280900@www.westende.wokingham.sch.uk
SUMMARY:Sewing Club
DESCRIPTION:
URL:https://www.westende.wokingham.sch.uk/event/sewing-club-71/
END:VEVENT
BEGIN:VEVENT
DTSTART;TZID=Europe/London:20260612T151500
DTEND;TZID=Europe/London:20260612T161500
DTSTAMP:20260423T082504
CREATED:20260421T154522Z
LAST-MODIFIED:20260422T154436Z
UID:239994-1781277300-1781280900@www.westende.wokingham.sch.uk
SUMMARY:Chess Club
DESCRIPTION:
URL:https://www.westende.wokingham.sch.uk/event/chess-club-18/
END:VEVENT
BEGIN:VEVENT
DTSTART;TZID=Europe/London:20260615T074500
DTEND;TZID=Europe/London:20260615T083000
DTSTAMP:20260423T082504
CREATED:20260421T154524Z
LAST-MODIFIED:20260422T154438Z
UID:239996-1781509500-1781512200@www.westende.wokingham.sch.uk
SUMMARY:Parkour Club
DESCRIPTION:
URL:https://www.westende.wokingham.sch.uk/event/parkour-club-67/
END:VEVENT
BEGIN:VEVENT
DTSTART;TZID=Europe/London:20260615T151500
DTEND;TZID=Europe/London:20260615T161500
DTSTAMP:20260423T082504
CREATED:20260421T154525Z
LAST-MODIFIED:20260422T154440Z
UID:239997-1781536500-1781540100@www.westende.wokingham.sch.uk
SUMMARY:Athletics Club
DESCRIPTION:
URL:https://www.westende.wokingham.sch.uk/event/athletics-club-24/
END:VEVENT
BEGIN:VEVENT
DTSTART;TZID=Europe/London:20260616T074500
DTEND;TZID=Europe/London:20260616T083000
DTSTAMP:20260423T082504
CREATED:20260421T154525Z
LAST-MODIFIED:20260422T154441Z
UID:239998-1781595900-1781598600@www.westende.wokingham.sch.uk
SUMMARY:Dodgeball Club
DESCRIPTION:
URL:https://www.westende.wokingham.sch.uk/event/dodgeball-club-62/
END:VEVENT
BEGIN:VEVENT
DTSTART;TZID=Europe/London:20260616T151500
DTEND;TZID=Europe/London:20260616T161500
DTSTAMP:20260423T082504
CREATED:20260421T154527Z
LAST-MODIFIED:20260422T154444Z
UID:240000-1781622900-1781626500@www.westende.wokingham.sch.uk
SUMMARY:Art Club
DESCRIPTION:
URL:https://www.westende.wokingham.sch.uk/event/art-club-7/
END:VEVENT
BEGIN:VEVENT
DTSTART;TZID=Europe/London:20260616T151500
DTEND;TZID=Europe/London:20260616T161500
DTSTAMP:20260423T082504
CREATED:20260421T154528Z
LAST-MODIFIED:20260422T154443Z
UID:240003-1781622900-1781626500@www.westende.wokingham.sch.uk
SUMMARY:Reading Football Mixed
DESCRIPTION:
URL:https://www.westende.wokingham.sch.uk/event/reading-football-mixed-18/
END:VEVENT
BEGIN:VEVENT
DTSTART;TZID=Europe/London:20260616T151500
DTEND;TZID=Europe/London:20260616T163000
DTSTAMP:20260423T082504
CREATED:20260421T154526Z
LAST-MODIFIED:20260422T154442Z
UID:239999-1781622900-1781627400@www.westende.wokingham.sch.uk
SUMMARY:Gardening Club
DESCRIPTION:
URL:https://www.westende.wokingham.sch.uk/event/gardening-club-64/
END:VEVENT
BEGIN:VEVENT
DTSTART;TZID=Europe/London:20260617T074500
DTEND;TZID=Europe/London:20260617T083000
DTSTAMP:20260423T082504
CREATED:20260421T154528Z
LAST-MODIFIED:20260422T154445Z
UID:240005-1781682300-1781685000@www.westende.wokingham.sch.uk
SUMMARY:Gymnastics Club
DESCRIPTION:
URL:https://www.westende.wokingham.sch.uk/event/gymnastics-club-115/
END:VEVENT
BEGIN:VEVENT
DTSTART;TZID=Europe/London:20260617T151500
DTEND;TZID=Europe/London:20260617T161500
DTSTAMP:20260423T082504
CREATED:20260421T154529Z
LAST-MODIFIED:20260422T154446Z
UID:240007-1781709300-1781712900@www.westende.wokingham.sch.uk
SUMMARY:Fencing Club
DESCRIPTION:
URL:https://www.westende.wokingham.sch.uk/event/fencing-club-17/
END:VEVENT
BEGIN:VEVENT
DTSTART;TZID=Europe/London:20260617T151500
DTEND;TZID=Europe/London:20260617T161500
DTSTAMP:20260423T082504
CREATED:20260421T154530Z
LAST-MODIFIED:20260422T154445Z
UID:240009-1781709300-1781712900@www.westende.wokingham.sch.uk
SUMMARY:Tennis Club
DESCRIPTION:
URL:https://www.westende.wokingham.sch.uk/event/tennis-club-8/
END:VEVENT
BEGIN:VEVENT
DTSTART;TZID=Europe/London:20260618T074500
DTEND;TZID=Europe/London:20260618T083000
DTSTAMP:20260423T082504
CREATED:20260421T154530Z
LAST-MODIFIED:20260422T154447Z
UID:240011-1781768700-1781771400@www.westende.wokingham.sch.uk
SUMMARY:Drama Club
DESCRIPTION:
URL:https://www.westende.wokingham.sch.uk/event/drama-club-112/
END:VEVENT
BEGIN:VEVENT
DTSTART;TZID=Europe/London:20260618T151500
DTEND;TZID=Europe/London:20260618T160000
DTSTAMP:20260423T082504
CREATED:20260421T154532Z
LAST-MODIFIED:20260422T154447Z
UID:240013-1781795700-1781798400@www.westende.wokingham.sch.uk
SUMMARY:Dance Club
DESCRIPTION:
URL:https://www.westende.wokingham.sch.uk/event/dance-club-18/
END:VEVENT
BEGIN:VEVENT
DTSTART;TZID=Europe/London:20260618T151500
DTEND;TZID=Europe/London:20260618T161500
DTSTAMP:20260423T082504
CREATED:20260421T154531Z
LAST-MODIFIED:20260422T154448Z
UID:240012-1781795700-1781799300@www.westende.wokingham.sch.uk
SUMMARY:Year 3+4 Football Mixed
DESCRIPTION:
URL:https://www.westende.wokingham.sch.uk/event/year-34-football-mixed-8/
END:VEVENT
BEGIN:VEVENT
DTSTART;TZID=Europe/London:20260619T074500
DTEND;TZID=Europe/London:20260619T083000
DTSTAMP:20260423T082504
CREATED:20260421T154532Z
LAST-MODIFIED:20260422T154451Z
UID:240014-1781855100-1781857800@www.westende.wokingham.sch.uk
SUMMARY:Judo Club
DESCRIPTION:
URL:https://www.westende.wokingham.sch.uk/event/judo-club-92/
END:VEVENT
BEGIN:VEVENT
DTSTART;TZID=Europe/London:20260619T151500
DTEND;TZID=Europe/London:20260619T161500
DTSTAMP:20260423T082504
CREATED:20260421T154533Z
LAST-MODIFIED:20260422T154451Z
UID:240015-1781882100-1781885700@www.westende.wokingham.sch.uk
SUMMARY:Sewing Club
DESCRIPTION:
URL:https://www.westende.wokingham.sch.uk/event/sewing-club-72/
END:VEVENT
BEGIN:VEVENT
DTSTART;TZID=Europe/London:20260619T151500
DTEND;TZID=Europe/London:20260619T161500
DTSTAMP:20260423T082504
CREATED:20260421T154534Z
LAST-MODIFIED:20260422T154452Z
UID:240016-1781882100-1781885700@www.westende.wokingham.sch.uk
SUMMARY:Reading Football - Girls only
DESCRIPTION:
URL:https://www.westende.wokingham.sch.uk/event/reading-football-girls-only-9/
END:VEVENT
BEGIN:VEVENT
DTSTART;TZID=Europe/London:20260619T151500
DTEND;TZID=Europe/London:20260619T161500
DTSTAMP:20260423T082504
CREATED:20260421T154535Z
LAST-MODIFIED:20260422T154453Z
UID:240017-1781882100-1781885700@www.westende.wokingham.sch.uk
SUMMARY:Chess Club
DESCRIPTION:
URL:https://www.westende.wokingham.sch.uk/event/chess-club-19/
END:VEVENT
BEGIN:VEVENT
DTSTART;TZID=Europe/London:20260622T074500
DTEND;TZID=Europe/London:20260622T083000
DTSTAMP:20260423T082504
CREATED:20260421T154535Z
LAST-MODIFIED:20260422T154453Z
UID:240018-1782114300-1782117000@www.westende.wokingham.sch.uk
SUMMARY:Parkour Club
DESCRIPTION:
URL:https://www.westende.wokingham.sch.uk/event/parkour-club-68/
END:VEVENT
BEGIN:VEVENT
DTSTART;TZID=Europe/London:20260622T151500
DTEND;TZID=Europe/London:20260622T161500
DTSTAMP:20260423T082504
CREATED:20260421T154537Z
LAST-MODIFIED:20260422T154454Z
UID:240019-1782141300-1782144900@www.westende.wokingham.sch.uk
SUMMARY:Athletics Club
DESCRIPTION:
URL:https://www.westende.wokingham.sch.uk/event/athletics-club-25/
END:VEVENT
END:VCALENDAR