BEGIN:VCALENDAR
VERSION:2.0
PRODID:-//Westende Junior School - ECPv6.15.20//NONSGML v1.0//EN
CALSCALE:GREGORIAN
METHOD:PUBLISH
X-ORIGINAL-URL:https://www.westende.wokingham.sch.uk
X-WR-CALDESC:Events for Westende Junior School
REFRESH-INTERVAL;VALUE=DURATION:PT1H
X-Robots-Tag:noindex
X-PUBLISHED-TTL:PT1H
BEGIN:VTIMEZONE
TZID:Europe/London
BEGIN:DAYLIGHT
TZOFFSETFROM:+0000
TZOFFSETTO:+0100
TZNAME:BST
DTSTART:20250330T010000
END:DAYLIGHT
BEGIN:STANDARD
TZOFFSETFROM:+0100
TZOFFSETTO:+0000
TZNAME:GMT
DTSTART:20251026T010000
END:STANDARD
BEGIN:DAYLIGHT
TZOFFSETFROM:+0000
TZOFFSETTO:+0100
TZNAME:BST
DTSTART:20260329T010000
END:DAYLIGHT
BEGIN:STANDARD
TZOFFSETFROM:+0100
TZOFFSETTO:+0000
TZNAME:GMT
DTSTART:20261025T010000
END:STANDARD
BEGIN:DAYLIGHT
TZOFFSETFROM:+0000
TZOFFSETTO:+0100
TZNAME:BST
DTSTART:20270328T010000
END:DAYLIGHT
BEGIN:STANDARD
TZOFFSETFROM:+0100
TZOFFSETTO:+0000
TZNAME:GMT
DTSTART:20271031T010000
END:STANDARD
END:VTIMEZONE
BEGIN:VEVENT
DTSTART;TZID=Europe/London:20260506T150000
DTEND;TZID=Europe/London:20260506T173000
DTSTAMP:20260421T170320
CREATED:20260421T154422Z
LAST-MODIFIED:20260421T154431Z
UID:239881-1778079600-1778088600@www.westende.wokingham.sch.uk
SUMMARY:School Games - Year 3+4 Tennis Qualifier
DESCRIPTION:Children will need to wear PE kit and trainers for the event. Central timing. Players will need to know how to keep their own score without adult help. Matches will be played with simple scoring (1-0\, 2-1 etc.)
URL:https://www.westende.wokingham.sch.uk/event/school-games-year-34-tennis-qualifier/
LOCATION:Millworth Ln\, Shinfield South\, United Kingdom
END:VEVENT
BEGIN:VEVENT
DTSTART;TZID=Europe/London:20260506T151500
DTEND;TZID=Europe/London:20260506T161500
DTSTAMP:20260421T170320
CREATED:20260421T154420Z
LAST-MODIFIED:20260421T154430Z
UID:239876-1778080500-1778084100@www.westende.wokingham.sch.uk
SUMMARY:Tennis Club
DESCRIPTION:
URL:https://www.westende.wokingham.sch.uk/event/tennis-club-3/
END:VEVENT
BEGIN:VEVENT
DTSTART;TZID=Europe/London:20260506T151500
DTEND;TZID=Europe/London:20260506T161500
DTSTAMP:20260421T170320
CREATED:20260421T154421Z
LAST-MODIFIED:20260421T154430Z
UID:239878-1778080500-1778084100@www.westende.wokingham.sch.uk
SUMMARY:Fencing Club
DESCRIPTION:
URL:https://www.westende.wokingham.sch.uk/event/fencing-club-12/
END:VEVENT
BEGIN:VEVENT
DTSTART;TZID=Europe/London:20260507T074500
DTEND;TZID=Europe/London:20260507T083000
DTSTAMP:20260421T170320
CREATED:20260421T154432Z
LAST-MODIFIED:20260421T154435Z
UID:239899-1778139900-1778142600@www.westende.wokingham.sch.uk
SUMMARY:Drama Club
DESCRIPTION:
URL:https://www.westende.wokingham.sch.uk/event/drama-club-108/
END:VEVENT
BEGIN:VEVENT
DTSTART;TZID=Europe/London:20260507T151500
DTEND;TZID=Europe/London:20260507T160000
DTSTAMP:20260421T170320
CREATED:20260421T154433Z
LAST-MODIFIED:20260421T154436Z
UID:239901-1778166900-1778169600@www.westende.wokingham.sch.uk
SUMMARY:Dance Club
DESCRIPTION:
URL:https://www.westende.wokingham.sch.uk/event/dance-club-13/
END:VEVENT
BEGIN:VEVENT
DTSTART;TZID=Europe/London:20260507T151500
DTEND;TZID=Europe/London:20260507T161500
DTSTAMP:20260421T170320
CREATED:20260421T154432Z
LAST-MODIFIED:20260421T154436Z
UID:239900-1778166900-1778170500@www.westende.wokingham.sch.uk
SUMMARY:Year 3+4 Football Mixed
DESCRIPTION:
URL:https://www.westende.wokingham.sch.uk/event/year-34-football-mixed-3/
END:VEVENT
BEGIN:VEVENT
DTSTART;TZID=Europe/London:20260508T074500
DTEND;TZID=Europe/London:20260508T083000
DTSTAMP:20260421T170320
CREATED:20260421T154433Z
LAST-MODIFIED:20260421T154437Z
UID:239902-1778226300-1778229000@www.westende.wokingham.sch.uk
SUMMARY:Judo Club
DESCRIPTION:
URL:https://www.westende.wokingham.sch.uk/event/judo-club-87/
END:VEVENT
BEGIN:VEVENT
DTSTART;TZID=Europe/London:20260508T151500
DTEND;TZID=Europe/London:20260508T161500
DTSTAMP:20260421T170320
CREATED:20260421T154434Z
LAST-MODIFIED:20260421T154437Z
UID:239903-1778253300-1778256900@www.westende.wokingham.sch.uk
SUMMARY:Chess Club
DESCRIPTION:
URL:https://www.westende.wokingham.sch.uk/event/chess-club-14/
END:VEVENT
BEGIN:VEVENT
DTSTART;TZID=Europe/London:20260508T151500
DTEND;TZID=Europe/London:20260508T161500
DTSTAMP:20260421T170320
CREATED:20260421T154435Z
LAST-MODIFIED:20260421T154435Z
UID:239904-1778253300-1778256900@www.westende.wokingham.sch.uk
SUMMARY:Reading Football - Girls only
DESCRIPTION:
URL:https://www.westende.wokingham.sch.uk/event/reading-football-girls-only-3/
END:VEVENT
BEGIN:VEVENT
DTSTART;TZID=Europe/London:20260508T151500
DTEND;TZID=Europe/London:20260508T161500
DTSTAMP:20260421T170320
CREATED:20260421T154436Z
LAST-MODIFIED:20260421T154436Z
UID:239906-1778253300-1778256900@www.westende.wokingham.sch.uk
SUMMARY:Sewing Club
DESCRIPTION:
URL:https://www.westende.wokingham.sch.uk/event/sewing-club-66/
END:VEVENT
BEGIN:VEVENT
DTSTART;TZID=Europe/London:20260508T151500
DTEND;TZID=Europe/London:20260508T161500
DTSTAMP:20260421T170320
CREATED:20260421T154437Z
LAST-MODIFIED:20260421T154437Z
UID:239913-1778253300-1778256900@www.westende.wokingham.sch.uk
SUMMARY:Reading Football - Girls only
DESCRIPTION:
URL:https://www.westende.wokingham.sch.uk/event/reading-football-girls-only-4/
END:VEVENT
BEGIN:VEVENT
DTSTART;TZID=Europe/London:20260508T151500
DTEND;TZID=Europe/London:20260508T161500
DTSTAMP:20260421T170320
CREATED:20260421T154438Z
LAST-MODIFIED:20260421T154438Z
UID:239916-1778253300-1778256900@www.westende.wokingham.sch.uk
SUMMARY:Sewing Club
DESCRIPTION:
URL:https://www.westende.wokingham.sch.uk/event/sewing-club-67/
END:VEVENT
BEGIN:VEVENT
DTSTART;VALUE=DATE:20260511
DTEND;VALUE=DATE:20260516
DTSTAMP:20260421T170320
CREATED:20260421T154439Z
LAST-MODIFIED:20260421T154454Z
UID:239919-1778457600-1778889599@www.westende.wokingham.sch.uk
SUMMARY:World Mental Health Week
DESCRIPTION:
URL:https://www.westende.wokingham.sch.uk/event/world-mental-health-week/
END:VEVENT
BEGIN:VEVENT
DTSTART;TZID=Europe/London:20260511T074500
DTEND;TZID=Europe/London:20260511T083000
DTSTAMP:20260421T170320
CREATED:20260421T154436Z
LAST-MODIFIED:20260421T154436Z
UID:239908-1778485500-1778488200@www.westende.wokingham.sch.uk
SUMMARY:No Parkour Club - Sats
DESCRIPTION:
URL:https://www.westende.wokingham.sch.uk/event/no-parkour-club-sats/
END:VEVENT
BEGIN:VEVENT
DTSTART;TZID=Europe/London:20260511T074500
DTEND;TZID=Europe/London:20260511T083000
DTSTAMP:20260421T170320
CREATED:20260421T154439Z
LAST-MODIFIED:20260421T154439Z
UID:239918-1778485500-1778488200@www.westende.wokingham.sch.uk
SUMMARY:No Parkour Club - Sats
DESCRIPTION:
URL:https://www.westende.wokingham.sch.uk/event/no-parkour-club-sats-2/
END:VEVENT
BEGIN:VEVENT
DTSTART;TZID=Europe/London:20260511T151500
DTEND;TZID=Europe/London:20260511T161500
DTSTAMP:20260421T170320
CREATED:20260421T154440Z
LAST-MODIFIED:20260421T154454Z
UID:239921-1778512500-1778516100@www.westende.wokingham.sch.uk
SUMMARY:Athletics Club
DESCRIPTION:
URL:https://www.westende.wokingham.sch.uk/event/athletics-club-20/
END:VEVENT
BEGIN:VEVENT
DTSTART;TZID=Europe/London:20260512T074500
DTEND;TZID=Europe/London:20260512T083000
DTSTAMP:20260421T170320
CREATED:20260421T154437Z
LAST-MODIFIED:20260421T154437Z
UID:239910-1778571900-1778574600@www.westende.wokingham.sch.uk
SUMMARY:No Dodgeball Club - Sats Week
DESCRIPTION:
URL:https://www.westende.wokingham.sch.uk/event/no-dodgeball-club-sats-week/
END:VEVENT
BEGIN:VEVENT
DTSTART;TZID=Europe/London:20260512T074500
DTEND;TZID=Europe/London:20260512T083000
DTSTAMP:20260421T170320
CREATED:20260421T154439Z
LAST-MODIFIED:20260421T154439Z
UID:239920-1778571900-1778574600@www.westende.wokingham.sch.uk
SUMMARY:No Dodgeball Club - Sats Week
DESCRIPTION:
URL:https://www.westende.wokingham.sch.uk/event/no-dodgeball-club-sats-week-2/
END:VEVENT
BEGIN:VEVENT
DTSTART;TZID=Europe/London:20260512T151500
DTEND;TZID=Europe/London:20260512T161500
DTSTAMP:20260421T170320
CREATED:20260421T154437Z
LAST-MODIFIED:20260421T154437Z
UID:239914-1778598900-1778602500@www.westende.wokingham.sch.uk
SUMMARY:Reading Football Mixed
DESCRIPTION:
URL:https://www.westende.wokingham.sch.uk/event/reading-football-mixed-13/
END:VEVENT
BEGIN:VEVENT
DTSTART;TZID=Europe/London:20260512T151500
DTEND;TZID=Europe/London:20260512T161500
DTSTAMP:20260421T170320
CREATED:20260421T154440Z
LAST-MODIFIED:20260421T154440Z
UID:239922-1778598900-1778602500@www.westende.wokingham.sch.uk
SUMMARY:Reading Football Mixed
DESCRIPTION:
URL:https://www.westende.wokingham.sch.uk/event/reading-football-mixed-14/
END:VEVENT
BEGIN:VEVENT
DTSTART;TZID=Europe/London:20260512T151500
DTEND;TZID=Europe/London:20260512T161500
DTSTAMP:20260421T170320
CREATED:20260421T154440Z
LAST-MODIFIED:20260421T154455Z
UID:239923-1778598900-1778602500@www.westende.wokingham.sch.uk
SUMMARY:Art Club
DESCRIPTION:
URL:https://www.westende.wokingham.sch.uk/event/art-club-3/
END:VEVENT
BEGIN:VEVENT
DTSTART;TZID=Europe/London:20260512T151500
DTEND;TZID=Europe/London:20260512T163000
DTSTAMP:20260421T170320
CREATED:20260421T154438Z
LAST-MODIFIED:20260421T154453Z
UID:239915-1778598900-1778603400@www.westende.wokingham.sch.uk
SUMMARY:Gardening Club
DESCRIPTION:
URL:https://www.westende.wokingham.sch.uk/event/gardening-club-60/
END:VEVENT
BEGIN:VEVENT
DTSTART;TZID=Europe/London:20260513T074500
DTEND;TZID=Europe/London:20260513T083000
DTSTAMP:20260421T170320
CREATED:20260421T154441Z
LAST-MODIFIED:20260421T154455Z
UID:239924-1778658300-1778661000@www.westende.wokingham.sch.uk
SUMMARY:No Gymnastics Club - Sats Week
DESCRIPTION:
URL:https://www.westende.wokingham.sch.uk/event/no-gymnastics-club-sats-week/
END:VEVENT
BEGIN:VEVENT
DTSTART;TZID=Europe/London:20260513T151500
DTEND;TZID=Europe/London:20260513T161500
DTSTAMP:20260421T170320
CREATED:20260421T154439Z
LAST-MODIFIED:20260421T154453Z
UID:239917-1778685300-1778688900@www.westende.wokingham.sch.uk
SUMMARY:Tennis Club
DESCRIPTION:
URL:https://www.westende.wokingham.sch.uk/event/tennis-club-4/
END:VEVENT
BEGIN:VEVENT
DTSTART;TZID=Europe/London:20260513T151500
DTEND;TZID=Europe/London:20260513T161500
DTSTAMP:20260421T170320
CREATED:20260421T154441Z
LAST-MODIFIED:20260421T154456Z
UID:239925-1778685300-1778688900@www.westende.wokingham.sch.uk
SUMMARY:Fencing Club
DESCRIPTION:
URL:https://www.westende.wokingham.sch.uk/event/fencing-club-13/
END:VEVENT
BEGIN:VEVENT
DTSTART;TZID=Europe/London:20260514T074500
DTEND;TZID=Europe/London:20260514T083000
DTSTAMP:20260421T170320
CREATED:20260421T154442Z
LAST-MODIFIED:20260421T154456Z
UID:239926-1778744700-1778747400@www.westende.wokingham.sch.uk
SUMMARY:No Drama Club - Sats Week
DESCRIPTION:
URL:https://www.westende.wokingham.sch.uk/event/no-drama-club-sats-week/
END:VEVENT
BEGIN:VEVENT
DTSTART;TZID=Europe/London:20260514T151500
DTEND;TZID=Europe/London:20260514T160000
DTSTAMP:20260421T170320
CREATED:20260421T154442Z
LAST-MODIFIED:20260421T154457Z
UID:239927-1778771700-1778774400@www.westende.wokingham.sch.uk
SUMMARY:Dance Club
DESCRIPTION:
URL:https://www.westende.wokingham.sch.uk/event/dance-club-14/
END:VEVENT
BEGIN:VEVENT
DTSTART;TZID=Europe/London:20260514T151500
DTEND;TZID=Europe/London:20260514T161500
DTSTAMP:20260421T170320
CREATED:20260421T154443Z
LAST-MODIFIED:20260421T154457Z
UID:239928-1778771700-1778775300@www.westende.wokingham.sch.uk
SUMMARY:Year 3+4 Football Mixed
DESCRIPTION:
URL:https://www.westende.wokingham.sch.uk/event/year-34-football-mixed-4/
END:VEVENT
BEGIN:VEVENT
DTSTART;TZID=Europe/London:20260515T074500
DTEND;TZID=Europe/London:20260515T083000
DTSTAMP:20260421T170320
CREATED:20260421T154444Z
LAST-MODIFIED:20260421T154511Z
UID:239929-1778831100-1778833800@www.westende.wokingham.sch.uk
SUMMARY:Judo Club
DESCRIPTION:
URL:https://www.westende.wokingham.sch.uk/event/judo-club-88/
END:VEVENT
BEGIN:VEVENT
DTSTART;TZID=Europe/London:20260515T151500
DTEND;TZID=Europe/London:20260515T161500
DTSTAMP:20260421T170320
CREATED:20260421T154444Z
LAST-MODIFIED:20260421T154512Z
UID:239930-1778858100-1778861700@www.westende.wokingham.sch.uk
SUMMARY:Sewing Club
DESCRIPTION:
URL:https://www.westende.wokingham.sch.uk/event/sewing-club-68/
END:VEVENT
END:VCALENDAR