BEGIN:VCALENDAR
VERSION:2.0
PRODID:-//Westende Junior School - ECPv6.15.20//NONSGML v1.0//EN
CALSCALE:GREGORIAN
METHOD:PUBLISH
X-ORIGINAL-URL:https://www.westende.wokingham.sch.uk
X-WR-CALDESC:Events for Westende Junior School
REFRESH-INTERVAL;VALUE=DURATION:PT1H
X-Robots-Tag:noindex
X-PUBLISHED-TTL:PT1H
BEGIN:VTIMEZONE
TZID:Europe/London
BEGIN:DAYLIGHT
TZOFFSETFROM:+0000
TZOFFSETTO:+0100
TZNAME:BST
DTSTART:20250330T010000
END:DAYLIGHT
BEGIN:STANDARD
TZOFFSETFROM:+0100
TZOFFSETTO:+0000
TZNAME:GMT
DTSTART:20251026T010000
END:STANDARD
BEGIN:DAYLIGHT
TZOFFSETFROM:+0000
TZOFFSETTO:+0100
TZNAME:BST
DTSTART:20260329T010000
END:DAYLIGHT
BEGIN:STANDARD
TZOFFSETFROM:+0100
TZOFFSETTO:+0000
TZNAME:GMT
DTSTART:20261025T010000
END:STANDARD
BEGIN:DAYLIGHT
TZOFFSETFROM:+0000
TZOFFSETTO:+0100
TZNAME:BST
DTSTART:20270328T010000
END:DAYLIGHT
BEGIN:STANDARD
TZOFFSETFROM:+0100
TZOFFSETTO:+0000
TZNAME:GMT
DTSTART:20271031T010000
END:STANDARD
BEGIN:DAYLIGHT
TZOFFSETFROM:+0000
TZOFFSETTO:+0100
TZNAME:BST
DTSTART:20280326T010000
END:DAYLIGHT
BEGIN:STANDARD
TZOFFSETFROM:+0100
TZOFFSETTO:+0000
TZNAME:GMT
DTSTART:20281029T010000
END:STANDARD
END:VTIMEZONE
BEGIN:VEVENT
DTSTART;TZID=Europe/London:20260715T074500
DTEND;TZID=Europe/London:20260715T083000
DTSTAMP:20260422T162917
CREATED:20260421T154623Z
LAST-MODIFIED:20260422T154543Z
UID:240106-1784101500-1784104200@www.westende.wokingham.sch.uk
SUMMARY:Gymnastics Club
DESCRIPTION:
URL:https://www.westende.wokingham.sch.uk/event/gymnastics-club-119/
END:VEVENT
BEGIN:VEVENT
DTSTART;TZID=Europe/London:20260715T151500
DTEND;TZID=Europe/London:20260715T161500
DTSTAMP:20260422T162917
CREATED:20260421T154621Z
LAST-MODIFIED:20260422T154540Z
UID:240103-1784128500-1784132100@www.westende.wokingham.sch.uk
SUMMARY:Tennis Club
DESCRIPTION:
URL:https://www.westende.wokingham.sch.uk/event/tennis-club-12/
END:VEVENT
BEGIN:VEVENT
DTSTART;TZID=Europe/London:20260716T074500
DTEND;TZID=Europe/London:20260716T083000
DTSTAMP:20260422T162917
CREATED:20260421T154624Z
LAST-MODIFIED:20260422T154544Z
UID:240107-1784187900-1784190600@www.westende.wokingham.sch.uk
SUMMARY:Drama Club
DESCRIPTION:
URL:https://www.westende.wokingham.sch.uk/event/drama-club-116/
END:VEVENT
BEGIN:VEVENT
DTSTART;TZID=Europe/London:20260716T140000
DTEND;TZID=Europe/London:20260716T144500
DTSTAMP:20260422T162917
CREATED:20260421T154625Z
LAST-MODIFIED:20260422T154545Z
UID:240108-1784210400-1784213100@www.westende.wokingham.sch.uk
SUMMARY:Rocksteady Concert
DESCRIPTION:Parents and children invited to watch
URL:https://www.westende.wokingham.sch.uk/event/rocksteady-concert-4/
LOCATION:School hall
END:VEVENT
BEGIN:VEVENT
DTSTART;TZID=Europe/London:20260716T151500
DTEND;TZID=Europe/London:20260716T160000
DTSTAMP:20260422T162917
CREATED:20260421T154626Z
LAST-MODIFIED:20260422T154546Z
UID:240110-1784214900-1784217600@www.westende.wokingham.sch.uk
SUMMARY:Dance Club
DESCRIPTION:
URL:https://www.westende.wokingham.sch.uk/event/dance-club-22/
END:VEVENT
BEGIN:VEVENT
DTSTART;TZID=Europe/London:20260716T151500
DTEND;TZID=Europe/London:20260716T161500
DTSTAMP:20260422T162917
CREATED:20260421T154626Z
LAST-MODIFIED:20260422T154546Z
UID:240109-1784214900-1784218500@www.westende.wokingham.sch.uk
SUMMARY:Year 3+4 Football Mixed
DESCRIPTION:
URL:https://www.westende.wokingham.sch.uk/event/year-34-football-mixed-12/
END:VEVENT
BEGIN:VEVENT
DTSTART;TZID=Europe/London:20260717T074500
DTEND;TZID=Europe/London:20260717T083000
DTSTAMP:20260422T162917
CREATED:20260421T154627Z
LAST-MODIFIED:20260422T154547Z
UID:240111-1784274300-1784277000@www.westende.wokingham.sch.uk
SUMMARY:Judo Club
DESCRIPTION:
URL:https://www.westende.wokingham.sch.uk/event/judo-club-96/
END:VEVENT
BEGIN:VEVENT
DTSTART;TZID=Europe/London:20260717T151500
DTEND;TZID=Europe/London:20260717T161500
DTSTAMP:20260422T162917
CREATED:20260421T154628Z
LAST-MODIFIED:20260422T154549Z
UID:240112-1784301300-1784304900@www.westende.wokingham.sch.uk
SUMMARY:Chess Club
DESCRIPTION:
URL:https://www.westende.wokingham.sch.uk/event/chess-club-23/
END:VEVENT
BEGIN:VEVENT
DTSTART;TZID=Europe/London:20260717T151500
DTEND;TZID=Europe/London:20260717T161500
DTSTAMP:20260422T162917
CREATED:20260421T154628Z
LAST-MODIFIED:20260422T154548Z
UID:240113-1784301300-1784304900@www.westende.wokingham.sch.uk
SUMMARY:Reading Football - Girls only
DESCRIPTION:
URL:https://www.westende.wokingham.sch.uk/event/reading-football-girls-only-13/
END:VEVENT
BEGIN:VEVENT
DTSTART;TZID=Europe/London:20260717T151500
DTEND;TZID=Europe/London:20260717T161500
DTSTAMP:20260422T162917
CREATED:20260421T154629Z
LAST-MODIFIED:20260422T154548Z
UID:240114-1784301300-1784304900@www.westende.wokingham.sch.uk
SUMMARY:Sewing Club
DESCRIPTION:
URL:https://www.westende.wokingham.sch.uk/event/sewing-club-76/
END:VEVENT
BEGIN:VEVENT
DTSTART;VALUE=DATE:20260924
DTEND;VALUE=DATE:20260925
DTSTAMP:20260422T162917
CREATED:20260421T154631Z
LAST-MODIFIED:20260422T154551Z
UID:240115-1790208000-1790294399@www.westende.wokingham.sch.uk
SUMMARY:Flu Vaccine - whole school
DESCRIPTION:
URL:https://www.westende.wokingham.sch.uk/event/flu-vaccine-whole-school/
END:VEVENT
BEGIN:VEVENT
DTSTART;TZID=Europe/London:20261124T093000
DTEND;TZID=Europe/London:20261124T103000
DTSTAMP:20260422T162917
CREATED:20260421T154633Z
LAST-MODIFIED:20260422T154554Z
UID:240119-1795512600-1795516200@www.westende.wokingham.sch.uk
SUMMARY:Prospective Y3s Open Morning
DESCRIPTION:
URL:https://www.westende.wokingham.sch.uk/event/prospective-y3s-open-morning/
LOCATION:Hall
END:VEVENT
BEGIN:VEVENT
DTSTART;TZID=Europe/London:20261202T093000
DTEND;TZID=Europe/London:20261202T103000
DTSTAMP:20260422T162917
CREATED:20260421T154634Z
LAST-MODIFIED:20260422T154555Z
UID:240123-1796203800-1796207400@www.westende.wokingham.sch.uk
SUMMARY:Prospective Y3s Open Morning
DESCRIPTION:
URL:https://www.westende.wokingham.sch.uk/event/prospective-y3s-open-morning-2/
LOCATION:Hall
END:VEVENT
BEGIN:VEVENT
DTSTART;VALUE=DATE:20270325
DTEND;VALUE=DATE:20270326
DTSTAMP:20260422T162917
CREATED:20260421T154636Z
LAST-MODIFIED:20260422T154556Z
UID:240127-1805932800-1806019199@www.westende.wokingham.sch.uk
SUMMARY:TERM ENDS 1.15PM
DESCRIPTION:
URL:https://www.westende.wokingham.sch.uk/event/term-ends-1-15pm-2/
END:VEVENT
BEGIN:VEVENT
DTSTART;VALUE=DATE:20270412
DTEND;VALUE=DATE:20270413
DTSTAMP:20260422T162917
CREATED:20260421T154637Z
LAST-MODIFIED:20260422T154557Z
UID:240128-1807488000-1807574399@www.westende.wokingham.sch.uk
SUMMARY:SCHOOL STARTS
DESCRIPTION:
URL:https://www.westende.wokingham.sch.uk/event/school-starts-29/
END:VEVENT
END:VCALENDAR