BEGIN:VCALENDAR
VERSION:2.0
PRODID:-//Westende Junior School - ECPv6.15.20//NONSGML v1.0//EN
CALSCALE:GREGORIAN
METHOD:PUBLISH
X-ORIGINAL-URL:https://www.westende.wokingham.sch.uk
X-WR-CALDESC:Events for Westende Junior School
REFRESH-INTERVAL;VALUE=DURATION:PT1H
X-Robots-Tag:noindex
X-PUBLISHED-TTL:PT1H
BEGIN:VTIMEZONE
TZID:Europe/London
BEGIN:DAYLIGHT
TZOFFSETFROM:+0000
TZOFFSETTO:+0100
TZNAME:BST
DTSTART:20250330T010000
END:DAYLIGHT
BEGIN:STANDARD
TZOFFSETFROM:+0100
TZOFFSETTO:+0000
TZNAME:GMT
DTSTART:20251026T010000
END:STANDARD
BEGIN:DAYLIGHT
TZOFFSETFROM:+0000
TZOFFSETTO:+0100
TZNAME:BST
DTSTART:20260329T010000
END:DAYLIGHT
BEGIN:STANDARD
TZOFFSETFROM:+0100
TZOFFSETTO:+0000
TZNAME:GMT
DTSTART:20261025T010000
END:STANDARD
BEGIN:DAYLIGHT
TZOFFSETFROM:+0000
TZOFFSETTO:+0100
TZNAME:BST
DTSTART:20270328T010000
END:DAYLIGHT
BEGIN:STANDARD
TZOFFSETFROM:+0100
TZOFFSETTO:+0000
TZNAME:GMT
DTSTART:20271031T010000
END:STANDARD
END:VTIMEZONE
BEGIN:VEVENT
DTSTART;TZID=Europe/London:20260617T151500
DTEND;TZID=Europe/London:20260617T161500
DTSTAMP:20260424T085258
CREATED:20260421T154530Z
LAST-MODIFIED:20260423T154417Z
UID:240009-1781709300-1781712900@www.westende.wokingham.sch.uk
SUMMARY:Tennis Club
DESCRIPTION:
URL:https://www.westende.wokingham.sch.uk/event/tennis-club-8/
END:VEVENT
BEGIN:VEVENT
DTSTART;TZID=Europe/London:20260618T074500
DTEND;TZID=Europe/London:20260618T083000
DTSTAMP:20260424T085258
CREATED:20260421T154530Z
LAST-MODIFIED:20260423T154417Z
UID:240011-1781768700-1781771400@www.westende.wokingham.sch.uk
SUMMARY:Drama Club
DESCRIPTION:
URL:https://www.westende.wokingham.sch.uk/event/drama-club-112/
END:VEVENT
BEGIN:VEVENT
DTSTART;TZID=Europe/London:20260618T151500
DTEND;TZID=Europe/London:20260618T160000
DTSTAMP:20260424T085258
CREATED:20260421T154532Z
LAST-MODIFIED:20260423T154418Z
UID:240013-1781795700-1781798400@www.westende.wokingham.sch.uk
SUMMARY:Dance Club
DESCRIPTION:
URL:https://www.westende.wokingham.sch.uk/event/dance-club-18/
END:VEVENT
BEGIN:VEVENT
DTSTART;TZID=Europe/London:20260618T151500
DTEND;TZID=Europe/London:20260618T161500
DTSTAMP:20260424T085258
CREATED:20260421T154531Z
LAST-MODIFIED:20260423T154418Z
UID:240012-1781795700-1781799300@www.westende.wokingham.sch.uk
SUMMARY:Year 3+4 Football Mixed
DESCRIPTION:
URL:https://www.westende.wokingham.sch.uk/event/year-34-football-mixed-8/
END:VEVENT
BEGIN:VEVENT
DTSTART;TZID=Europe/London:20260619T074500
DTEND;TZID=Europe/London:20260619T083000
DTSTAMP:20260424T085258
CREATED:20260421T154532Z
LAST-MODIFIED:20260423T154419Z
UID:240014-1781855100-1781857800@www.westende.wokingham.sch.uk
SUMMARY:Judo Club
DESCRIPTION:
URL:https://www.westende.wokingham.sch.uk/event/judo-club-92/
END:VEVENT
BEGIN:VEVENT
DTSTART;TZID=Europe/London:20260619T151500
DTEND;TZID=Europe/London:20260619T161500
DTSTAMP:20260424T085258
CREATED:20260421T154533Z
LAST-MODIFIED:20260423T154421Z
UID:240015-1781882100-1781885700@www.westende.wokingham.sch.uk
SUMMARY:Sewing Club
DESCRIPTION:
URL:https://www.westende.wokingham.sch.uk/event/sewing-club-72/
END:VEVENT
BEGIN:VEVENT
DTSTART;TZID=Europe/London:20260619T151500
DTEND;TZID=Europe/London:20260619T161500
DTSTAMP:20260424T085258
CREATED:20260421T154534Z
LAST-MODIFIED:20260423T154422Z
UID:240016-1781882100-1781885700@www.westende.wokingham.sch.uk
SUMMARY:Reading Football - Girls only
DESCRIPTION:
URL:https://www.westende.wokingham.sch.uk/event/reading-football-girls-only-9/
END:VEVENT
BEGIN:VEVENT
DTSTART;TZID=Europe/London:20260619T151500
DTEND;TZID=Europe/London:20260619T161500
DTSTAMP:20260424T085258
CREATED:20260421T154535Z
LAST-MODIFIED:20260423T154423Z
UID:240017-1781882100-1781885700@www.westende.wokingham.sch.uk
SUMMARY:Chess Club
DESCRIPTION:
URL:https://www.westende.wokingham.sch.uk/event/chess-club-19/
END:VEVENT
BEGIN:VEVENT
DTSTART;TZID=Europe/London:20260622T074500
DTEND;TZID=Europe/London:20260622T083000
DTSTAMP:20260424T085258
CREATED:20260421T154535Z
LAST-MODIFIED:20260423T154424Z
UID:240018-1782114300-1782117000@www.westende.wokingham.sch.uk
SUMMARY:Parkour Club
DESCRIPTION:
URL:https://www.westende.wokingham.sch.uk/event/parkour-club-68/
END:VEVENT
BEGIN:VEVENT
DTSTART;TZID=Europe/London:20260622T151500
DTEND;TZID=Europe/London:20260622T161500
DTSTAMP:20260424T085258
CREATED:20260421T154537Z
LAST-MODIFIED:20260423T154425Z
UID:240019-1782141300-1782144900@www.westende.wokingham.sch.uk
SUMMARY:Athletics Club
DESCRIPTION:
URL:https://www.westende.wokingham.sch.uk/event/athletics-club-25/
END:VEVENT
BEGIN:VEVENT
DTSTART;TZID=Europe/London:20260623T074500
DTEND;TZID=Europe/London:20260623T083000
DTSTAMP:20260424T085258
CREATED:20260421T154538Z
LAST-MODIFIED:20260423T154425Z
UID:240020-1782200700-1782203400@www.westende.wokingham.sch.uk
SUMMARY:Dodgeball Club
DESCRIPTION:
URL:https://www.westende.wokingham.sch.uk/event/dodgeball-club-63/
END:VEVENT
BEGIN:VEVENT
DTSTART;TZID=Europe/London:20260623T090000
DTEND;TZID=Europe/London:20260623T143000
DTSTAMP:20260424T085258
CREATED:20260421T154539Z
LAST-MODIFIED:20260423T154426Z
UID:240021-1782205200-1782225000@www.westende.wokingham.sch.uk
SUMMARY:School Games - Year 5+6 Girls Cricket Event
DESCRIPTION:Children will need to be in PE kit and trainers for this event. 8 players on the pitch. One 8 over innings per team. Batting side split into pairs with each pair batting for 2 overs. ALL PLAYERS will be expected to bowl overarm.
URL:https://www.westende.wokingham.sch.uk/event/school-games-year-56-girls-cricket-event/
LOCATION:The Pavilion House\, Winnersh\, United Kingdom
END:VEVENT
BEGIN:VEVENT
DTSTART;TZID=Europe/London:20260623T151500
DTEND;TZID=Europe/London:20260623T161500
DTSTAMP:20260424T085258
CREATED:20260421T154539Z
LAST-MODIFIED:20260423T154428Z
UID:240022-1782227700-1782231300@www.westende.wokingham.sch.uk
SUMMARY:Reading Football Mixed
DESCRIPTION:
URL:https://www.westende.wokingham.sch.uk/event/reading-football-mixed-19/
END:VEVENT
BEGIN:VEVENT
DTSTART;TZID=Europe/London:20260623T151500
DTEND;TZID=Europe/London:20260623T161500
DTSTAMP:20260424T085258
CREATED:20260421T154541Z
LAST-MODIFIED:20260423T154428Z
UID:240024-1782227700-1782231300@www.westende.wokingham.sch.uk
SUMMARY:Art Club
DESCRIPTION:
URL:https://www.westende.wokingham.sch.uk/event/art-club-8/
END:VEVENT
BEGIN:VEVENT
DTSTART;TZID=Europe/London:20260623T151500
DTEND;TZID=Europe/London:20260623T163000
DTSTAMP:20260424T085258
CREATED:20260421T154540Z
LAST-MODIFIED:20260423T154427Z
UID:240023-1782227700-1782232200@www.westende.wokingham.sch.uk
SUMMARY:Gardening Club
DESCRIPTION:
URL:https://www.westende.wokingham.sch.uk/event/gardening-club-65/
END:VEVENT
BEGIN:VEVENT
DTSTART;TZID=Europe/London:20260624T074500
DTEND;TZID=Europe/London:20260624T083000
DTSTAMP:20260424T085258
CREATED:20260421T154541Z
LAST-MODIFIED:20260423T154429Z
UID:240025-1782287100-1782289800@www.westende.wokingham.sch.uk
SUMMARY:Gymnastics Club
DESCRIPTION:
URL:https://www.westende.wokingham.sch.uk/event/gymnastics-club-116/
END:VEVENT
BEGIN:VEVENT
DTSTART;TZID=Europe/London:20260624T141500
DTEND;TZID=Europe/London:20260624T153000
DTSTAMP:20260424T085258
CREATED:20260421T154543Z
LAST-MODIFIED:20260423T154431Z
UID:240028-1782310500-1782315000@www.westende.wokingham.sch.uk
SUMMARY:New Y3 Parents Presentation - Hall
DESCRIPTION:
URL:https://www.westende.wokingham.sch.uk/event/new-y3-parents-presentation-hall/
END:VEVENT
BEGIN:VEVENT
DTSTART;TZID=Europe/London:20260624T151500
DTEND;TZID=Europe/London:20260624T161500
DTSTAMP:20260424T085258
CREATED:20260421T154542Z
LAST-MODIFIED:20260423T154430Z
UID:240026-1782314100-1782317700@www.westende.wokingham.sch.uk
SUMMARY:Tennis Club
DESCRIPTION:
URL:https://www.westende.wokingham.sch.uk/event/tennis-club-9/
END:VEVENT
BEGIN:VEVENT
DTSTART;TZID=Europe/London:20260624T151500
DTEND;TZID=Europe/London:20260624T161500
DTSTAMP:20260424T085258
CREATED:20260421T154543Z
LAST-MODIFIED:20260423T154430Z
UID:240027-1782314100-1782317700@www.westende.wokingham.sch.uk
SUMMARY:Fencing Club
DESCRIPTION:
URL:https://www.westende.wokingham.sch.uk/event/fencing-club-18/
END:VEVENT
BEGIN:VEVENT
DTSTART;TZID=Europe/London:20260625T074500
DTEND;TZID=Europe/London:20260625T083000
DTSTAMP:20260424T085258
CREATED:20260421T154544Z
LAST-MODIFIED:20260423T154431Z
UID:240030-1782373500-1782376200@www.westende.wokingham.sch.uk
SUMMARY:Drama Club
DESCRIPTION:
URL:https://www.westende.wokingham.sch.uk/event/drama-club-113/
END:VEVENT
BEGIN:VEVENT
DTSTART;TZID=Europe/London:20260625T151500
DTEND;TZID=Europe/London:20260625T160000
DTSTAMP:20260424T085258
CREATED:20260421T154545Z
LAST-MODIFIED:20260423T154433Z
UID:240032-1782400500-1782403200@www.westende.wokingham.sch.uk
SUMMARY:Dance Club
DESCRIPTION:
URL:https://www.westende.wokingham.sch.uk/event/dance-club-19/
END:VEVENT
BEGIN:VEVENT
DTSTART;TZID=Europe/London:20260625T151500
DTEND;TZID=Europe/London:20260625T161500
DTSTAMP:20260424T085258
CREATED:20260421T154545Z
LAST-MODIFIED:20260423T154432Z
UID:240035-1782400500-1782404100@www.westende.wokingham.sch.uk
SUMMARY:Year 3+4 Football Mixed
DESCRIPTION:
URL:https://www.westende.wokingham.sch.uk/event/year-34-football-mixed-9/
END:VEVENT
BEGIN:VEVENT
DTSTART;TZID=Europe/London:20260626T074500
DTEND;TZID=Europe/London:20260626T083000
DTSTAMP:20260424T085258
CREATED:20260421T154546Z
LAST-MODIFIED:20260423T154433Z
UID:240037-1782459900-1782462600@www.westende.wokingham.sch.uk
SUMMARY:Judo Club
DESCRIPTION:
URL:https://www.westende.wokingham.sch.uk/event/judo-club-93/
END:VEVENT
BEGIN:VEVENT
DTSTART;TZID=Europe/London:20260626T151500
DTEND;TZID=Europe/London:20260626T161500
DTSTAMP:20260424T085258
CREATED:20260421T154547Z
LAST-MODIFIED:20260423T154435Z
UID:240039-1782486900-1782490500@www.westende.wokingham.sch.uk
SUMMARY:Sewing Club
DESCRIPTION:
URL:https://www.westende.wokingham.sch.uk/event/sewing-club-73/
END:VEVENT
BEGIN:VEVENT
DTSTART;TZID=Europe/London:20260626T151500
DTEND;TZID=Europe/London:20260626T161500
DTSTAMP:20260424T085258
CREATED:20260421T154547Z
LAST-MODIFIED:20260423T154435Z
UID:240041-1782486900-1782490500@www.westende.wokingham.sch.uk
SUMMARY:Chess Club
DESCRIPTION:
URL:https://www.westende.wokingham.sch.uk/event/chess-club-20/
END:VEVENT
BEGIN:VEVENT
DTSTART;TZID=Europe/London:20260626T151500
DTEND;TZID=Europe/London:20260626T161500
DTSTAMP:20260424T085258
CREATED:20260421T154548Z
LAST-MODIFIED:20260423T154434Z
UID:240042-1782486900-1782490500@www.westende.wokingham.sch.uk
SUMMARY:Reading Football - Girls only
DESCRIPTION:
URL:https://www.westende.wokingham.sch.uk/event/reading-football-girls-only-10/
END:VEVENT
BEGIN:VEVENT
DTSTART;VALUE=DATE:20260627
DTEND;VALUE=DATE:20260628
DTSTAMP:20260424T085258
CREATED:20260421T154548Z
LAST-MODIFIED:20260423T154436Z
UID:240043-1782518400-1782604799@www.westende.wokingham.sch.uk
SUMMARY:PA Summer Fair
DESCRIPTION:
URL:https://www.westende.wokingham.sch.uk/event/pa-summer-fair-4/
END:VEVENT
BEGIN:VEVENT
DTSTART;TZID=Europe/London:20260629T074500
DTEND;TZID=Europe/London:20260629T083000
DTSTAMP:20260424T085258
CREATED:20260421T154549Z
LAST-MODIFIED:20260423T154436Z
UID:240044-1782719100-1782721800@www.westende.wokingham.sch.uk
SUMMARY:Parkour Club
DESCRIPTION:
URL:https://www.westende.wokingham.sch.uk/event/parkour-club-69/
END:VEVENT
BEGIN:VEVENT
DTSTART;TZID=Europe/London:20260629T151500
DTEND;TZID=Europe/London:20260629T161500
DTSTAMP:20260424T085258
CREATED:20260421T154550Z
LAST-MODIFIED:20260423T154437Z
UID:240045-1782746100-1782749700@www.westende.wokingham.sch.uk
SUMMARY:Athletics Club
DESCRIPTION:
URL:https://www.westende.wokingham.sch.uk/event/athletics-club-26/
END:VEVENT
BEGIN:VEVENT
DTSTART;VALUE=DATE:20260630
DTEND;VALUE=DATE:20260701
DTSTAMP:20260424T085258
CREATED:20260421T154551Z
LAST-MODIFIED:20260423T154438Z
UID:240046-1782777600-1782863999@www.westende.wokingham.sch.uk
SUMMARY:Year 3 Egyptian Day and URE trip
DESCRIPTION:Year 3 will be invited to dress up all day. They will be immersed in an Egyptian day where they will visit the University of Reading for half of the day to complete a mummification workshop. When in school\, they will complete fun and engaging Egyptian themed activities.
URL:https://www.westende.wokingham.sch.uk/event/year-3-egyptian-day-and-ure-trip/
LOCATION:Department Of Classics\, Whiteknights Road\, Bulmershe and Whitegates\, United Kingdom
END:VEVENT
END:VCALENDAR