BEGIN:VCALENDAR
VERSION:2.0
PRODID:-//Westende Junior School - ECPv6.15.20//NONSGML v1.0//EN
CALSCALE:GREGORIAN
METHOD:PUBLISH
X-WR-CALNAME:Westende Junior School
X-ORIGINAL-URL:https://www.westende.wokingham.sch.uk
X-WR-CALDESC:Events for Westende Junior School
REFRESH-INTERVAL;VALUE=DURATION:PT1H
X-Robots-Tag:noindex
X-PUBLISHED-TTL:PT1H
BEGIN:VTIMEZONE
TZID:Europe/London
BEGIN:DAYLIGHT
TZOFFSETFROM:+0000
TZOFFSETTO:+0100
TZNAME:BST
DTSTART:20250330T010000
END:DAYLIGHT
BEGIN:STANDARD
TZOFFSETFROM:+0100
TZOFFSETTO:+0000
TZNAME:GMT
DTSTART:20251026T010000
END:STANDARD
BEGIN:DAYLIGHT
TZOFFSETFROM:+0000
TZOFFSETTO:+0100
TZNAME:BST
DTSTART:20260329T010000
END:DAYLIGHT
BEGIN:STANDARD
TZOFFSETFROM:+0100
TZOFFSETTO:+0000
TZNAME:GMT
DTSTART:20261025T010000
END:STANDARD
BEGIN:DAYLIGHT
TZOFFSETFROM:+0000
TZOFFSETTO:+0100
TZNAME:BST
DTSTART:20270328T010000
END:DAYLIGHT
BEGIN:STANDARD
TZOFFSETFROM:+0100
TZOFFSETTO:+0000
TZNAME:GMT
DTSTART:20271031T010000
END:STANDARD
END:VTIMEZONE
BEGIN:VEVENT
DTSTART;VALUE=DATE:20260630
DTEND;VALUE=DATE:20260701
DTSTAMP:20260424T115239
CREATED:20260421T154551Z
LAST-MODIFIED:20260423T154438Z
UID:240046-1782777600-1782863999@www.westende.wokingham.sch.uk
SUMMARY:Year 3 Egyptian Day and URE trip
DESCRIPTION:Year 3 will be invited to dress up all day. They will be immersed in an Egyptian day where they will visit the University of Reading for half of the day to complete a mummification workshop. When in school\, they will complete fun and engaging Egyptian themed activities.
URL:https://www.westende.wokingham.sch.uk/event/year-3-egyptian-day-and-ure-trip/
LOCATION:Department Of Classics\, Whiteknights Road\, Bulmershe and Whitegates\, United Kingdom
END:VEVENT
BEGIN:VEVENT
DTSTART;TZID=Europe/London:20260630T074500
DTEND;TZID=Europe/London:20260630T083000
DTSTAMP:20260424T115239
CREATED:20260421T154552Z
LAST-MODIFIED:20260423T154439Z
UID:240047-1782805500-1782808200@www.westende.wokingham.sch.uk
SUMMARY:Dodgeball Club
DESCRIPTION:
URL:https://www.westende.wokingham.sch.uk/event/dodgeball-club-64/
END:VEVENT
BEGIN:VEVENT
DTSTART;TZID=Europe/London:20260630T151500
DTEND;TZID=Europe/London:20260630T161500
DTSTAMP:20260424T115239
CREATED:20260421T154553Z
LAST-MODIFIED:20260423T154441Z
UID:240048-1782832500-1782836100@www.westende.wokingham.sch.uk
SUMMARY:Reading Football Mixed
DESCRIPTION:
URL:https://www.westende.wokingham.sch.uk/event/reading-football-mixed-20/
END:VEVENT
BEGIN:VEVENT
DTSTART;TZID=Europe/London:20260630T151500
DTEND;TZID=Europe/London:20260630T161500
DTSTAMP:20260424T115240
CREATED:20260421T154553Z
LAST-MODIFIED:20260423T154440Z
UID:240049-1782832500-1782836100@www.westende.wokingham.sch.uk
SUMMARY:Art Club
DESCRIPTION:
URL:https://www.westende.wokingham.sch.uk/event/art-club-9/
END:VEVENT
BEGIN:VEVENT
DTSTART;TZID=Europe/London:20260630T151500
DTEND;TZID=Europe/London:20260630T163000
DTSTAMP:20260424T115240
CREATED:20260421T154554Z
LAST-MODIFIED:20260423T154440Z
UID:240050-1782832500-1782837000@www.westende.wokingham.sch.uk
SUMMARY:Gardening Club
DESCRIPTION:
URL:https://www.westende.wokingham.sch.uk/event/gardening-club-66/
END:VEVENT
BEGIN:VEVENT
DTSTART;VALUE=DATE:20260701
DTEND;VALUE=DATE:20260702
DTSTAMP:20260424T115240
CREATED:20260421T154555Z
LAST-MODIFIED:20260423T154445Z
UID:240051-1782864000-1782950399@www.westende.wokingham.sch.uk
SUMMARY:Y5 Hexagon Clarinet Concert
DESCRIPTION:
URL:https://www.westende.wokingham.sch.uk/event/y5-hexagon-clarinet-concert/
END:VEVENT
BEGIN:VEVENT
DTSTART;TZID=Europe/London:20260701T074500
DTEND;TZID=Europe/London:20260701T083000
DTSTAMP:20260424T115240
CREATED:20260421T154555Z
LAST-MODIFIED:20260423T154442Z
UID:240052-1782891900-1782894600@www.westende.wokingham.sch.uk
SUMMARY:Gymnastics Club
DESCRIPTION:
URL:https://www.westende.wokingham.sch.uk/event/gymnastics-club-117/
END:VEVENT
BEGIN:VEVENT
DTSTART;TZID=Europe/London:20260701T151500
DTEND;TZID=Europe/London:20260701T161500
DTSTAMP:20260424T115240
CREATED:20260421T154556Z
LAST-MODIFIED:20260423T154442Z
UID:240053-1782918900-1782922500@www.westende.wokingham.sch.uk
SUMMARY:Fencing Club
DESCRIPTION:
URL:https://www.westende.wokingham.sch.uk/event/fencing-club-19/
END:VEVENT
BEGIN:VEVENT
DTSTART;TZID=Europe/London:20260701T151500
DTEND;TZID=Europe/London:20260701T161500
DTSTAMP:20260424T115240
CREATED:20260421T154558Z
LAST-MODIFIED:20260423T154443Z
UID:240054-1782918900-1782922500@www.westende.wokingham.sch.uk
SUMMARY:Tennis Club
DESCRIPTION:
URL:https://www.westende.wokingham.sch.uk/event/tennis-club-10/
END:VEVENT
BEGIN:VEVENT
DTSTART;TZID=Europe/London:20260702T074500
DTEND;TZID=Europe/London:20260702T083000
DTSTAMP:20260424T115240
CREATED:20260421T154559Z
LAST-MODIFIED:20260423T154446Z
UID:240055-1782978300-1782981000@www.westende.wokingham.sch.uk
SUMMARY:Drama Club
DESCRIPTION:
URL:https://www.westende.wokingham.sch.uk/event/drama-club-114/
END:VEVENT
BEGIN:VEVENT
DTSTART;TZID=Europe/London:20260702T151500
DTEND;TZID=Europe/London:20260702T160000
DTSTAMP:20260424T115240
CREATED:20260421T154600Z
LAST-MODIFIED:20260423T154446Z
UID:240057-1783005300-1783008000@www.westende.wokingham.sch.uk
SUMMARY:Dance Club
DESCRIPTION:
URL:https://www.westende.wokingham.sch.uk/event/dance-club-20/
END:VEVENT
BEGIN:VEVENT
DTSTART;TZID=Europe/London:20260702T151500
DTEND;TZID=Europe/London:20260702T161500
DTSTAMP:20260424T115240
CREATED:20260421T154600Z
LAST-MODIFIED:20260423T154447Z
UID:240060-1783005300-1783008900@www.westende.wokingham.sch.uk
SUMMARY:Year 3+4 Football Mixed
DESCRIPTION:
URL:https://www.westende.wokingham.sch.uk/event/year-34-football-mixed-10/
END:VEVENT
BEGIN:VEVENT
DTSTART;TZID=Europe/London:20260703T074500
DTEND;TZID=Europe/London:20260703T083000
DTSTAMP:20260424T115240
CREATED:20260421T154601Z
LAST-MODIFIED:20260423T154448Z
UID:240062-1783064700-1783067400@www.westende.wokingham.sch.uk
SUMMARY:Judo Club
DESCRIPTION:
URL:https://www.westende.wokingham.sch.uk/event/judo-club-94/
END:VEVENT
BEGIN:VEVENT
DTSTART;TZID=Europe/London:20260703T151500
DTEND;TZID=Europe/London:20260703T161500
DTSTAMP:20260424T115240
CREATED:20260421T154602Z
LAST-MODIFIED:20260423T154449Z
UID:240065-1783091700-1783095300@www.westende.wokingham.sch.uk
SUMMARY:Reading Football - Girls only
DESCRIPTION:
URL:https://www.westende.wokingham.sch.uk/event/reading-football-girls-only-11/
END:VEVENT
BEGIN:VEVENT
DTSTART;TZID=Europe/London:20260703T151500
DTEND;TZID=Europe/London:20260703T161500
DTSTAMP:20260424T115240
CREATED:20260421T154603Z
LAST-MODIFIED:20260423T154449Z
UID:240068-1783091700-1783095300@www.westende.wokingham.sch.uk
SUMMARY:Sewing Club
DESCRIPTION:
URL:https://www.westende.wokingham.sch.uk/event/sewing-club-74/
END:VEVENT
BEGIN:VEVENT
DTSTART;TZID=Europe/London:20260703T151500
DTEND;TZID=Europe/London:20260703T161500
DTSTAMP:20260424T115240
CREATED:20260421T154604Z
LAST-MODIFIED:20260423T154448Z
UID:240069-1783091700-1783095300@www.westende.wokingham.sch.uk
SUMMARY:Chess Club
DESCRIPTION:
URL:https://www.westende.wokingham.sch.uk/event/chess-club-21/
END:VEVENT
BEGIN:VEVENT
DTSTART;TZID=Europe/London:20260706T074500
DTEND;TZID=Europe/London:20260706T083000
DTSTAMP:20260424T115240
CREATED:20260421T154604Z
LAST-MODIFIED:20260423T154450Z
UID:240070-1783323900-1783326600@www.westende.wokingham.sch.uk
SUMMARY:Parkour Club
DESCRIPTION:
URL:https://www.westende.wokingham.sch.uk/event/parkour-club-70/
END:VEVENT
BEGIN:VEVENT
DTSTART;TZID=Europe/London:20260706T151500
DTEND;TZID=Europe/London:20260706T161500
DTSTAMP:20260424T115240
CREATED:20260421T154605Z
LAST-MODIFIED:20260423T154451Z
UID:240071-1783350900-1783354500@www.westende.wokingham.sch.uk
SUMMARY:Athletics Club
DESCRIPTION:
URL:https://www.westende.wokingham.sch.uk/event/athletics-club-27/
END:VEVENT
BEGIN:VEVENT
DTSTART;TZID=Europe/London:20260707T074500
DTEND;TZID=Europe/London:20260707T083000
DTSTAMP:20260424T115240
CREATED:20260421T154606Z
LAST-MODIFIED:20260423T154452Z
UID:240072-1783410300-1783413000@www.westende.wokingham.sch.uk
SUMMARY:Dodgeball Club
DESCRIPTION:
URL:https://www.westende.wokingham.sch.uk/event/dodgeball-club-65/
END:VEVENT
BEGIN:VEVENT
DTSTART;TZID=Europe/London:20260707T151500
DTEND;TZID=Europe/London:20260707T161500
DTSTAMP:20260424T115240
CREATED:20260421T154606Z
LAST-MODIFIED:20260423T154453Z
UID:240073-1783437300-1783440900@www.westende.wokingham.sch.uk
SUMMARY:Art Club
DESCRIPTION:
URL:https://www.westende.wokingham.sch.uk/event/art-club-10/
END:VEVENT
BEGIN:VEVENT
DTSTART;TZID=Europe/London:20260707T151500
DTEND;TZID=Europe/London:20260707T161500
DTSTAMP:20260424T115240
CREATED:20260421T154607Z
LAST-MODIFIED:20260423T154453Z
UID:240074-1783437300-1783440900@www.westende.wokingham.sch.uk
SUMMARY:Reading Football Mixed
DESCRIPTION:
URL:https://www.westende.wokingham.sch.uk/event/reading-football-mixed-21/
END:VEVENT
BEGIN:VEVENT
DTSTART;TZID=Europe/London:20260707T151500
DTEND;TZID=Europe/London:20260707T163000
DTSTAMP:20260424T115240
CREATED:20260421T154608Z
LAST-MODIFIED:20260423T154452Z
UID:240075-1783437300-1783441800@www.westende.wokingham.sch.uk
SUMMARY:Gardening Club
DESCRIPTION:
URL:https://www.westende.wokingham.sch.uk/event/gardening-club-67/
END:VEVENT
BEGIN:VEVENT
DTSTART;TZID=Europe/London:20260708T074500
DTEND;TZID=Europe/London:20260708T083000
DTSTAMP:20260424T115240
CREATED:20260421T154612Z
LAST-MODIFIED:20260423T154454Z
UID:240081-1783496700-1783499400@www.westende.wokingham.sch.uk
SUMMARY:Gymnastics Club
DESCRIPTION:
URL:https://www.westende.wokingham.sch.uk/event/gymnastics-club-118/
END:VEVENT
BEGIN:VEVENT
DTSTART;TZID=Europe/London:20260708T151500
DTEND;TZID=Europe/London:20260708T161500
DTSTAMP:20260424T115240
CREATED:20260421T154608Z
LAST-MODIFIED:20260423T154456Z
UID:240076-1783523700-1783527300@www.westende.wokingham.sch.uk
SUMMARY:Tennis Club
DESCRIPTION:
URL:https://www.westende.wokingham.sch.uk/event/tennis-club-11/
END:VEVENT
BEGIN:VEVENT
DTSTART;TZID=Europe/London:20260708T151500
DTEND;TZID=Europe/London:20260708T161500
DTSTAMP:20260424T115240
CREATED:20260421T154609Z
LAST-MODIFIED:20260423T154455Z
UID:240077-1783523700-1783527300@www.westende.wokingham.sch.uk
SUMMARY:Fencing Club
DESCRIPTION:
URL:https://www.westende.wokingham.sch.uk/event/fencing-club-20/
END:VEVENT
BEGIN:VEVENT
DTSTART;TZID=Europe/London:20260709T074500
DTEND;TZID=Europe/London:20260709T083000
DTSTAMP:20260424T115240
CREATED:20260421T154613Z
LAST-MODIFIED:20260423T154457Z
UID:240082-1783583100-1783585800@www.westende.wokingham.sch.uk
SUMMARY:Drama Club
DESCRIPTION:
URL:https://www.westende.wokingham.sch.uk/event/drama-club-115/
END:VEVENT
BEGIN:VEVENT
DTSTART;TZID=Europe/London:20260709T151500
DTEND;TZID=Europe/London:20260709T160000
DTSTAMP:20260424T115240
CREATED:20260421T154614Z
LAST-MODIFIED:20260423T154457Z
UID:240084-1783610100-1783612800@www.westende.wokingham.sch.uk
SUMMARY:Dance Club
DESCRIPTION:
URL:https://www.westende.wokingham.sch.uk/event/dance-club-21/
END:VEVENT
BEGIN:VEVENT
DTSTART;TZID=Europe/London:20260709T151500
DTEND;TZID=Europe/London:20260709T161500
DTSTAMP:20260424T115240
CREATED:20260421T154614Z
LAST-MODIFIED:20260423T154458Z
UID:240083-1783610100-1783613700@www.westende.wokingham.sch.uk
SUMMARY:Year 3+4 Football Mixed
DESCRIPTION:
URL:https://www.westende.wokingham.sch.uk/event/year-34-football-mixed-11/
END:VEVENT
BEGIN:VEVENT
DTSTART;TZID=Europe/London:20260710T074500
DTEND;TZID=Europe/London:20260710T083000
DTSTAMP:20260424T115240
CREATED:20260421T154615Z
LAST-MODIFIED:20260423T154459Z
UID:240085-1783669500-1783672200@www.westende.wokingham.sch.uk
SUMMARY:Judo Club
DESCRIPTION:
URL:https://www.westende.wokingham.sch.uk/event/judo-club-95/
END:VEVENT
BEGIN:VEVENT
DTSTART;TZID=Europe/London:20260710T151500
DTEND;TZID=Europe/London:20260710T161500
DTSTAMP:20260424T115240
CREATED:20260421T154609Z
LAST-MODIFIED:20260423T154501Z
UID:240078-1783696500-1783700100@www.westende.wokingham.sch.uk
SUMMARY:Sewing Club
DESCRIPTION:
URL:https://www.westende.wokingham.sch.uk/event/sewing-club-75/
END:VEVENT
END:VCALENDAR